{"text_format":"1","workbook":"xlsx","n_sheets":7,"sheets":["Rozvaha","Rozvaha zkrácená","Rozvaha mikro","Výsledovka","Výsledovka zkrácená","CashFlow","PřehledZměnVK"],"not_rendered":{"charts":0,"images":0,"macros":1,"external_links":0,"defined_names":14,"comments":3,"pivot_tables":0},"unopened":[],"bounds":{"document_bytes":16777216,"sheet_cells":100000,"rows_first":2000,"rows_last":500,"rows_between":2000,"halvings":0,"cell_chars":16384,"cell_head_chars":4096},"cells_cut":0,"cells_raw":0,"read":"whole","date_system":"1900"}

{"sheet":"Rozvaha","index":0,"n_rows":161,"n_cols":11,"rows_kept":161,"cut":false,"hidden":false,"merged":[[6,5,6,7]]}
[null,{"$f":"\"Rozvaha \"&B3&\" v plném rozsahu\"","v":"Rozvaha 2024 v plném rozsahu"}]
["IČ:",0]
["Za rok:",2024]
["Počet\n období:",2,null,null,null,null,"verze 20242912"]
["Desetiny:",0]
[]
["Označení dle vyhlášky 500/2002 Sb.",null,"číslo řádku",null,null,"Běžné účetní období",null,null,"Minulé období","Předminulé","Předpředminulé"]
[null,null,"TaxEdit","EPO","Pořadí","Brutto","Korekce","Netto","Netto","Netto","Netto"]
[null," AKTIVA CELKEM",1,1,1,{"$f":"IF(F10&F11&F45&F86<>\"\",SUM(F10,F11,F45,F86),\"\")","v":""},"","","","",""]
["A.","Pohledávky za upsaný základní kapitál",2,2,2,null,null,{"$f":"IF(F10&G10<>\"\",SUM(F10)-SUM(G10),\"\")","v":""}]
["B.","Stálá aktiva",3,3,3,{"$f":"IF(F12&F22&F35<>\"\",SUM(F12,F22,F35),\"\")","v":""},{"$f":"IF(G12&G22&G35<>\"\",SUM(G12,G22,G35),\"\")","v":""},"","","",""]
["B. I.","Dlouhodobý nehmotný majetek",4,4,4,{"$f":"IF((F13&F14&F17&F18&F19<>\"\"),SUM(F13,F14,F17,F18,F19),\"\")","v":""},"","","","",""]
["B. I.  1.","Nehmotné výsledky vývoje",5,5,5,null,null,{"$f":"IF(F13&G13<>\"\",SUM(F13)-SUM(G13),\"\")","v":""}]
["         2.","Ocenitelná práva",6,6,6,{"$f":"IF((F15&F16<>\"\"),SUM(F15,F16),\"\")","v":""},"","","","",""]
["         2. 1.","Software",7,7,7,null,null,{"$f":"IF(F15&G15<>\"\",SUM(F15)-SUM(G15),\"\")","v":""}]
["         2. 2.","Ostatní ocenitelná práva",8,8,8,null,null,""]
["         3.","Goodwill",9,9,9,null,null,""]
["         4.","Ostatní dlouhodobý nehmotný majetek",10,10,10,null,null,""]
["         5.","Poskytnuté zálohy na dlouhodobý nehmotný majetek a nedokončený dlouhodobý nehmotný majetek",11,11,11,{"$f":"IF((F20&F21<>\"\"),SUM(F20,F21),\"\")","v":""},"","","","",""]
["         5. 1.","Poskytnuté zálohy na dlouhodobý nehmotný majetek",12,12,12,null,null,{"$f":"IF(F20&G20<>\"\",SUM(F20)-SUM(G20),\"\")","v":""}]
["         5. 2.","Nedokončený dlouhodobý nehmotný majetek",13,13,13,null,null,""]
["B. II.","Dlouhodobý hmotný majetek",14,14,14,{"$f":"IF((F23&F26&F27&F28&F32<>\"\"),SUM(F23,F26,F27,F28,F32),\"\")","v":""},"","","","",""]
["B. II.  1.","Pozemky a stavby",15,15,15,{"$f":"IF((F24&F25<>\"\"),SUM(F24,F25),\"\")","v":""},"","","","",""]
["         1. 1.","Pozemky",16,16,16,null,null,{"$f":"IF(F24&G24<>\"\",SUM(F24)-SUM(G24),\"\")","v":""}]
["         1. 2.","Stavby",17,17,17,null,null,""]
["         2.","Hmotné movité věci a jejich soubory",18,18,18,null,null,""]
["         3.","Oceňovací rozdíl k nabytému majetku",19,19,19,null,null,""]
["         4.","Ostatní dlouhodobý hmotný majetek",20,20,20,{"$f":"IF((F29&F30&F31<>\"\"),SUM(F29,F30,F31),\"\")","v":""},"","","","",""]
["         4. 1.","Pěstitelské celky trvalých porostů",21,21,21,null,null,""]
["         4. 2.","Dospělá zvířata a jejich skupiny",22,22,22,null,null,""]
["         4. 3.","Jiný dlouhodobý hmotný majetek",23,23,23,null,null,""]
["         5.","Poskytnuté zálohy na dlouhodobý hmotný majetek a nedokončený dlouhodobý hmotný majetek",24,24,24,{"$f":"IF((F33&F34<>\"\"),SUM(F33,F34),\"\")","v":""},"","","","",""]
["         5. 1.","Poskytnuté zálohy na dlouhodobý hmotný majetek",25,25,25,null,null,{"$f":"IF(F33&G33<>\"\",SUM(F33)-SUM(G33),\"\")","v":""}]
["         5. 2.","Nedokončený dlouhodobý hmotný majetek",26,26,26,null,null,""]
["B. III.","Dlouhodobý finanční majetek",27,27,27,{"$f":"IF((F36&F37&F38&F39&F40&F41&F42<>\"\"),SUM(F36:F42),\"\")","v":""},"","","","",""]
["B. III. 1.","Podíly - ovládaná nebo ovládající osoba ",28,28,28,null,null,{"$f":"IF(F36&G36<>\"\",SUM(F36)-SUM(G36),\"\")","v":""}]
["         2.","Zápůjčky a úvěry - ovládaná nebo ovládající osoba",29,29,29,null,null,""]
["         3.","Podíly - podstatný vliv",30,30,30,null,null,""]
["         4.","Zápůjčky a úvěry - podstatný vliv",31,31,31,null,null,""]
["         5.","Ostatní dlouhodobé cenné papíry a podíly",32,32,32,null,null,""]
["         6.","Zápůjčky a úvěry - ostatní",33,33,33,null,null,""]
["         7.","Ostatní dlouhodobý finanční majetek",34,34,34,{"$f":"IF((F43&F44<>\"\"),SUM(F43,F44),\"\")","v":""},"","","","",""]
["         7. 1.","Jiný dlouhodobý finanční majetek",35,35,35,null,null,{"$f":"IF(F43&G43<>\"\",SUM(F43)-SUM(G43),\"\")","v":""}]
["         7. 2.","Poskytnuté zálohy na dlouhodobý finanční majetek",36,36,36,null,null,""]
["C.","Oběžná aktiva",37,37,37,{"$f":"IF((F46&F54&F80&F83<>\"\"),SUM(F46,F54,F80,F83),\"\")","v":""},"","","","",""]
["C. I.","Zásoby",38,38,38,{"$f":"IF((F47&F48&F49&F52&F53<>\"\"),SUM(F47,F48,F49,F52,F53),\"\")","v":""},"","","","",""]
["C. I.   1.","Materiál",39,39,39,null,null,{"$f":"IF(F47&G47<>\"\",SUM(F47)-SUM(G47),\"\")","v":""}]
["         2.","Nedokončená výroba a polotovary",40,40,40,null,null,""]
["         3.","Výrobky a zboží",41,41,41,{"$f":"IF((F50&F51<>\"\"),SUM(F50,F51),\"\")","v":""},"","","","",""]
["         3. 1.","Výrobky",42,42,42,null,null,""]
["         3. 2.","Zboží",43,43,43,null,null,""]
["         4.","Mladá a ostatní zvířata a jejich skupiny",44,44,44,null,null,""]
["         5.","Poskytnuté zálohy na zásoby",45,45,45,null,null,""]
["C. II.","Pohledávky",46,46,46,{"$f":"IF((F55&F65&F76<>\"\"),SUM(F55,F65,F76),\"\")","v":""},{"$f":"IF((G55&G65&G76<>\"\"),SUM(G55,G65,G76),\"\")","v":""},"","","",""]
["C. II.  1.","Dlouhodobé pohledávky",47,47,47,{"$f":"IF((F56&F57&F58&F59&F60<>\"\"),SUM(F56:F60),\"\")","v":""},"","","","",""]
["         1. 1.","Pohledávky z obchodních vztahů",48,48,48,null,null,{"$f":"IF(F56&G56<>\"\",SUM(F56)-SUM(G56),\"\")","v":""}]
["         1. 2.","Pohledávky - ovládaná nebo ovládající osoba",49,49,49,null,null,""]
["         1. 3.","Pohledávky - podstatný vliv",50,50,50,null,null,""]
["         1. 4.","Odložená daňová pohledávka",51,51,51,null,null,""]
["         1. 5.","Pohledávky - ostatní",52,52,52,{"$f":"IF((F61&F62&F63&F64<>\"\"),SUM(F61:F64),\"\")","v":""},"","","","",""]
["         1. 5. 1.","Pohledávky za společníky",53,53,53,null,null,{"$f":"IF(F61&G61<>\"\",SUM(F61)-SUM(G61),\"\")","v":""}]
["         1. 5. 2.","Dlouhodobé poskytnuté zálohy",54,54,54,null,null,""]
["         1. 5. 3.","Dohadné účty aktivní",55,55,55,null,null,""]
["         1. 5. 4.","Jiné pohledávky",56,56,56,null,null,""]
["C. II.  2.","Krátkodobé pohledávky",57,57,57,{"$f":"IF((F66&F67&F68&F69<>\"\"),SUM(F66:F69),\"\")","v":""},"","","","",""]
["         2. 1.","Pohledávky z obchodních vztahů ",58,58,58,null,null,{"$f":"IF(F66&G66<>\"\",SUM(F66)-SUM(G66),\"\")","v":""}]
["         2. 2.","Pohledávky - ovládaná nebo ovládající osoba",59,59,59,null,null,""]
["         2. 3.","Pohledávky - podstatný vliv",60,60,60,null,null,""]
["         2. 4.","Pohledávky - ostatní",61,61,61,{"$f":"IF((F70&F71&F72&F73&F74&F75<>\"\"),SUM(F70:F75),\"\")","v":""},"","","","",""]
["         2. 4. 1.","Pohledávky za společníky",62,62,62,null,null,""]
["         2. 4. 2.","Sociální zabezpečení a zdravotní pojištění",63,63,63,null,null,""]
["         2. 4. 3.","Stát - daňové pohledávky",64,64,64,null,null,""]
["         2. 4. 4.","Krátkodobé poskytnuté zálohy",65,65,65,null,null,""]
["         2. 4. 5.","Dohadné účty aktivní",66,66,66,null,null,""]
["         2. 4. 6.","Jiné pohledávky",67,67,67,null,null,""]
["C. II.  3.","Časové rozlišení aktiv",68,78,68,{"$f":"IF((F77&F78&F79<>\"\"),SUM(F77:F79),\"\")","v":""},{"$f":"IF((G77&G78&G79<>\"\"),SUM(G77:G79),\"\")","v":""},{"$f":"IF((H77&H78&H79<>\"\"),SUM(H77:H79),\"\")","v":""},"","",""]
["         3. 1.","Náklady příštích období",69,79,69,null,null,{"$f":"IF(F77&G77<>\"\",SUM(F77)-SUM(G77),\"\")","v":""}]
["         3. 2.","Komplexní náklady příštích období",70,80,70,null,null,""]
["         3. 3.","Příjmy příštích období",71,81,71,null,null,""]
["C. III.","Krátkodobý finanční majetek",72,68,72,{"$f":"IF((F81&F82<>\"\"),SUM(F81,F82),\"\")","v":""},"","","","",""]
["C. III. 1. ","Podíly - ovládaná nebo ovládající osoba",73,69,73,null,null,{"$f":"IF(F81&G81<>\"\",SUM(F81)-SUM(G81),\"\")","v":""}]
["         2.","Ostatní krátkodobý finanční majetek",74,70,74,null,null,{"$f":"IF(F82&G82<>\"\",SUM(F82)-SUM(G82),\"\")","v":""}]
["C. IV.","Peněžní prostředky",75,71,75,{"$f":"IF((F84&F85<>\"\"),SUM(F84:F85),\"\")","v":""},"","","","",""]
["C. IV. 1.","Peněžní prostředky v pokladně",76,72,76,null,null,{"$f":"IF(F84&G84<>\"\",SUM(F84)-SUM(G84),\"\")","v":""}]
["          2.","Peněžní prostředky na účtech",77,73,77,null,null,{"$f":"IF(F85&G85<>\"\",SUM(F85)-SUM(G85),\"\")","v":""}]
["D.","Časové rozlišení aktiv",78,74,78,{"$f":"IF((F87&F88&F89<>\"\"),SUM(F87:F89),\"\")","v":""},"","","","",""]
["D.  1.","Náklady příštích období",79,75,79,null,null,{"$f":"IF(F87&G87<>\"\",SUM(F87)-SUM(G87),\"\")","v":""}]
["      2.","Komplexní náklady příštích období",80,76,80,null,null,{"$f":"IF(F88&G88<>\"\",SUM(F88)-SUM(G88),\"\")","v":""}]
["      3.","Příjmy příštích období",81,77,81,null,null,{"$f":"IF(F89&G89<>\"\",SUM(F89)-SUM(G89),\"\")","v":""}]
[null,"Kontrolní číslo - není nutné zadávat","XXX","XXX","XXX",{"$f":"IF(F9<>\"\",SUM(F9:F89),\"\")","v":""},"","","","",""]
[null,null,"POZOR Pasiva celkem se nerovnají Aktiva celkem",null,null,null,null,"! ! !","! ! !","! ! !","! ! !"]
["Označ.",null,"TaxEdit","EPO","Pořadí",null,null,"Běžné období","Minulé období","Předminulé","Předpředminulé"]
[null,"PASIVA CELKEM",1,1,{"$f":"E89+1","v":82},null,null,{"$f":"IF((H94&H115&H158<>\"\"),SUM(H94,H115,H158),\"\")","v":""},{"$f":"IF((I94&I115&I158<>\"\"),SUM(I94,I115,I158),\"\")","v":""},{"$f":"IF((J94&J115&J158<>\"\"),SUM(J94,J115,J158),\"\")","v":""},{"$f":"IF((K94&K115&K158<>\"\"),SUM(K94,K115,K158),\"\")","v":""}]
["A.","Vlastní kapitál",2,2,{"$f":"E93+1","v":83},null,null,{"$f":"IF(H95&H99&H107&H110&H113&H114<>\"\",SUM(H95,H99,H107,H110,H113,H114),\"\")","v":""},{"$f":"IF(I95&I99&I107&I110&I113&I114<>\"\",SUM(I95,I99,I107,I110,I113,I114),\"\")","v":""},{"$f":"IF(J95&J99&J107&J110&J113&J114<>\"\",SUM(J95,J99,J107,J110,J113,J114),\"\")","v":""},{"$f":"IF(K95&K99&K107&K110&K113&K114<>\"\",SUM(K95,K99,K107,K110,K113,K114),\"\")","v":""}]
["A. I.","Základní kapitál",3,3,{"$f":"E94+1","v":84},null,null,{"$f":"IF(H96&H97&H98<>\"\",SUM(H96:H98),\"\")","v":""},{"$f":"IF(I96&I97&I98<>\"\",SUM(I96:I98),\"\")","v":""},{"$f":"IF(J96&J97&J98<>\"\",SUM(J96:J98),\"\")","v":""},{"$f":"IF(K96&K97&K98<>\"\",SUM(K96:K98),\"\")","v":""}]
["A. I.   1.","Základní kapitál",4,4,85]
["          2.","Vlastní podíly (-)",5,5,86]
["          3.","Změny základního kapitálu",6,6,87]
["A. II.","Ážio a kapitálové fondy",7,7,88,null,null,{"$f":"IF(H100&H101<>\"\",SUM(H100,H101),\"\")","v":""},{"$f":"IF(I100&I101<>\"\",SUM(I100,I101),\"\")","v":""},{"$f":"IF(J100&J101<>\"\",SUM(J100,J101),\"\")","v":""},{"$f":"IF(K100&K101<>\"\",SUM(K100,K101),\"\")","v":""}]
["A. II.  1.","Ážijo",8,8,89]
["          2.","Kapitálové fondy",9,9,90,null,null,{"$f":"IF(H102&H103&H104&H105&H106<>\"\",SUM(H102:H106),\"\")","v":""},{"$f":"IF(I102&I103&I104&I105&I106<>\"\",SUM(I102:I106),\"\")","v":""},{"$f":"IF(J102&J103&J104&J105&J106<>\"\",SUM(J102:J106),\"\")","v":""},{"$f":"IF(K102&K103&K104&K105&K106<>\"\",SUM(K102:K106),\"\")","v":""}]
["          2. 1.","Ostatní kapitálové fondy",10,10,91]
["          2. 2.","Oceňovací rozdíly z přecenění majetku a závazků (+/-)",11,11,92]
["          2. 3.","Oceňovací rozdíly z přecenění při přeměnách obchodních korporací (+/-)",12,12,93]
["          2. 4.","Rozdíly z přeměn obchodních korporací (+/-)",13,13,94]
["          2. 5.","Rozdíly z ocenění při přeměnách obchodních korporací (+/-)",14,14,95]
["A. III.","Fondy ze zisku",15,15,96,null,null,{"$f":"IF(H108&H109<>\"\",SUM(H108,H109),\"\")","v":""},{"$f":"IF(I108&I109<>\"\",SUM(I108,I109),\"\")","v":""},{"$f":"IF(J108&J109<>\"\",SUM(J108,J109),\"\")","v":""},{"$f":"IF(K108&K109<>\"\",SUM(K108,K109),\"\")","v":""}]
["A. III. 1.","Ostatní rezervní fond",16,16,97]
["         2.","Statutární a ostatní fondy",17,17,98]
["A. IV.","Výsledek hospodaření minulých let (+/-)",18,18,99,null,null,{"$f":"IF(H111&H112<>\"\",SUM(H111:H112),\"\")","v":""},{"$f":"IF(I111&I112<>\"\",SUM(I111:I112),\"\")","v":""},"",""]
["A. IV.1.","Nerozdělený zisk nebo Neuhrazená ztráta minulých let",19,19,100]
["         2.","Jiný výsledek hospodaření minulých let (+/-)",20,21,101]
["A. V.","Výsledek hospodaření běžného účetního období (+/-)",21,22,102,"!!! Jinak Výsledovka",null,{"$f":"IF((H9&H95&H99&H107&H110&H114&H115&H158<>\"\"),SUM(H9)-SUM(H95,H99,H107,H110,H114,H115,H158),\"\")","v":""},{"$f":"IF((I9&I95&I99&I107&I110&I114&I115&I158<>\"\"),SUM(I9)-SUM(I95,I99,I107,I110,I114,I115,I158),\"\")","v":""},{"$f":"IF((J9&J95&J99&J107&J110&J114&J115&J158<>\"\"),SUM(J9)-SUM(J95,J99,J107,J110,J114,J115,J158),\"\")","v":""},{"$f":"IF((K9&K95&K99&K107&K110&K114&K115&K158<>\"\"),SUM(K9)-SUM(K95,K99,K107,K110,K114,K115,K158),\"\")","v":""}]
["A. VI.","Rozhodnuto o zálohové výplatě podílu na zisku (-)",22,23,103]
["B. + C.","Cizí zdroje",23,24,104,null,null,{"$f":"IF(H116&H121<>\"\",SUM(H116,H121),\"\")","v":""},{"$f":"IF(I116&I121<>\"\",SUM(I116,I121),\"\")","v":""},{"$f":"IF(J116&J121<>\"\",SUM(J116,J121),\"\")","v":""},{"$f":"IF(K116&K121<>\"\",SUM(K116,K121),\"\")","v":""}]
["B.","Rezervy",24,25,105,null,null,{"$f":"IF(H117&H118&H119&H120<>\"\",SUM(H117:H120),\"\")","v":""},{"$f":"IF(I117&I118&I119&I120<>\"\",SUM(I117:I120),\"\")","v":""},{"$f":"IF(J117&J118&J119&J120<>\"\",SUM(J117:J120),\"\")","v":""},{"$f":"IF(K117&K118&K119&K120<>\"\",SUM(K117:K120),\"\")","v":""}]
["B.  1.","Rezerva na důchody a podobné závazky",25,26,106]
["B.  2.","Rezerva na daň z příjmů",26,27,107]
["B.  3.","Rezervy podle zvláštních právních předpisů",27,28,108]
["B.  4.","Ostatní rezervy",28,29,109]
["C.","Závazky",29,30,110,null,null,{"$f":"IF(H122&H137&H155<>\"\",SUM(H122,H137,H155),\"\")","v":""},{"$f":"IF(I122&I137&I155<>\"\",SUM(I122,I137,I155),\"\")","v":""},"",""]
["C. I.","Dlouhodobé závazky",30,31,111,null,null,{"$f":"IF(H123&H126&H127&H128&H129&H130&H131&H132&H133<>\"\",SUM(H123,H126:H133),\"\")","v":""},{"$f":"IF(I123&I126&I127&I128&I129&I130&I131&I132&I133<>\"\",SUM(I123,I126:I133),\"\")","v":""},{"$f":"IF(J123&J126&J127&J128&J129&J130&J131&J132&J133<>\"\",SUM(J123,J126:J133),\"\")","v":""},{"$f":"IF(K123&K126&K127&K128&K129&K130&K131&K132&K133<>\"\",SUM(K123,K126:K133),\"\")","v":""}]
["C. I.  1.","Vydané dluhopisy",31,32,112,null,null,{"$f":"IF((H124&H125<>\"\"),SUM(H124:H125),\"\")","v":""},{"$f":"IF((I124&I125<>\"\"),SUM(I124:I125),\"\")","v":""},{"$f":"IF((J124&J125<>\"\"),SUM(J124:J125),\"\")","v":""},{"$f":"IF((K124&K125<>\"\"),SUM(K124:K125),\"\")","v":""}]
["C. I.  1. 1","Vyměnitelné dluhopisy",32,33,113]
["C. I.  1. 2","Ostatní dluhopisy",33,34,114]
["C. I.  2.","Závazky k úvěrovým institucím",34,35,115]
["C. I.  3.","Dlouhodobé přijaté zálohy",35,36,116]
["C. I.  4.","Závazky z obchodních vztahů",36,37,117]
["C. I.  5.","Dlouhodobé směnky k úhradě",37,38,118]
["C. I.  6.","Závazky - ovládaná nebo ovládající osoba",38,39,119]
["C. I.  7.","Závazky - podstatný vliv",39,40,120]
["C. I.  8.","Odložený daňový závazek ",40,41,121]
["C. I.  9.","Závazky - ostatní",41,42,122,null,null,{"$f":"IF((H134&H135&H136<>\"\"),SUM(H134:H136),\"\")","v":""},{"$f":"IF((I134&I135&I136<>\"\"),SUM(I134:I136),\"\")","v":""},{"$f":"IF((J134&J135&J136<>\"\"),SUM(J134:J136),\"\")","v":""},{"$f":"IF((K134&K135&K136<>\"\"),SUM(K134:K136),\"\")","v":""}]
["C. I.  9. 1.","Závazky ke společníkům",42,43,123]
["C. I.  9. 2.","Dohadné účty pasivní",43,44,124]
["C. I.  9. 3.","Jiné závazky",44,45,125]
["C. II.","Krátkodobé závazky",45,46,126,null,null,{"$f":"IF(H138&H141&H142&H143&H144&H145&H146&H147<>\"\",SUM(H138,H141:H147),\"\")","v":""},{"$f":"IF(I138&I141&I142&I143&I144&I145&I146&I147<>\"\",SUM(I138,I141:I147),\"\")","v":""},{"$f":"IF(J138&J141&J142&J143&J144&J145&J146&J147<>\"\",SUM(J138,J141:J147),\"\")","v":""},{"$f":"IF(K138&K141&K142&K143&K144&K145&K146&K147<>\"\",SUM(K138,K141:K147),\"\")","v":""}]
["C. II.  1.","Vydané dluhopisy",46,47,127,null,null,{"$f":"IF((H139&H140<>\"\"),SUM(H139,H140),\"\")","v":""},{"$f":"IF((I139&I140<>\"\"),SUM(I139,I140),\"\")","v":""},{"$f":"IF((J139&J140<>\"\"),SUM(J139,J140),\"\")","v":""},{"$f":"IF((K139&K140<>\"\"),SUM(K139,K140),\"\")","v":""}]
["C. II.  1. 1.","Vyměnitelné dluhopisy",47,48,128]
["C. II.  1. 2.","Ostatní dluhopisy",48,49,129]
["C. II.  2.","Závazky k úvěrovým institucím",49,50,130]
["C. II.  3.","Krátkodobé přijaté zálohy",50,51,131]
["C. II.  4.","Závazky z obchodních vztahů",51,52,132]
["C. II.  5.","Krátkodobé směnky k úhradě",52,53,133]
["C. II.  6.","Závazky - ovládaná nebo ovládající osoba",53,54,134]
["C. II.  7.","Závazky - podstatný vliv",54,55,135]
["C. II.  8.","Závazky ostatní",55,56,136,null,null,{"$f":"IF((H148&H149&H150&H151&H152&H153&H154<>\"\"),SUM(H148:H154),\"\")","v":""},{"$f":"IF((I148&I149&I150&I151&I152&I153&I154<>\"\"),SUM(I148:I154),\"\")","v":""},{"$f":"IF((J148&J149&J150&J151&J152&J153&J154<>\"\"),SUM(J148:J154),\"\")","v":""},{"$f":"IF((K148&K149&K150&K151&K152&K153&K154<>\"\"),SUM(K148:K154),\"\")","v":""}]
["C. II.  8. 1.","Závazky ke společníkům",56,57,137]
["C. II.  8. 2.","Krátkodobé finanční výpomoci",57,58,138]
["C. II.  8. 3.","Závazky k zaměstnancům",58,59,139]
["C. II.  8. 4.","Závazky ze sociálního zabezpečení a zdravotního pojištění",59,60,140]
["C. II.  8. 5.","Stát - daňové závazky a dotace",60,61,141]
["C. II.  8. 6.","Dohadné účty pasivní",61,62,142]
["C. II.  8. 7.","Jiné závazky",62,63,143]
["C. III.","Časové rozlišení pasiv",63,67,144,null,null,{"$f":"IF(H156&H157<>\"\",SUM(H156,H157),\"\")","v":""},{"$f":"IF(I156&I157<>\"\",SUM(I156,I157),\"\")","v":""},{"$f":"IF(J156&J157<>\"\",SUM(J156,J157),\"\")","v":""},{"$f":"IF(K156&K157<>\"\",SUM(K156,K157),\"\")","v":""}]
["C. III. 1.","Výdaje příštích období",64,68,145]
["         2.","Výnosy příštích období",65,69,146]
["D.","Časové rozlišení pasiv",66,64,147,null,null,{"$f":"IF(H159&H160<>\"\",SUM(H159:H160),\"\")","v":""},{"$f":"IF(I159&I160<>\"\",SUM(I159:I160),\"\")","v":""},{"$f":"IF(J159&J160<>\"\",SUM(J159:J160),\"\")","v":""},{"$f":"IF(K159&K160<>\"\",SUM(K159:K160),\"\")","v":""}]
["D.  1.","Výdaje příštích období",67,65,{"$f":"E158+1","v":148}]
["D.  2.","Výnosy příštích období",68,66,149]
[null,"Kontrolní číslo - není nutné zadávat, nepřenáší se","XXX","XXX","XXX",null,null,{"$f":"IF(H93<>\"\",SUM(H93:H160),\"\")","v":""},{"$f":"IF(I93<>\"\",SUM(I93:I160),\"\")","v":""},{"$f":"IF(J93<>\"\",SUM(J93:J160),\"\")","v":""},{"$f":"IF(K93<>\"\",SUM(K93:K160),\"\")","v":""}]

{"sheet":"Rozvaha zkrácená","index":1,"n_rows":40,"n_cols":11,"rows_kept":40,"cut":false,"hidden":false,"merged":[[6,5,6,7]]}
[null,{"$f":"\"Rozvaha \"&B3&\" ve zkráceném rozsahu\"","v":"Rozvaha 2024 ve zkráceném rozsahu"}]
["IČ:",0]
["Za rok:",{"$f":"Rozvaha!B3","v":2024}]
["Počet\n období:",2,null,null,null,null,"verze 20242912"]
["Desetiny:",0]
[]
["Označení dle vyhlášky 500/2002 Sb.",null,"číslo řádku",null,null,"Běžné účetní období",null,null,"Minulé období","Předminulé","Předpředminulé"]
[null,null,"TaxEdit","EPO","Pořadí","Brutto","Korekce","Netto","Netto","Netto","Netto"]
[null," AKTIVA CELKEM",1,1,1,{"$f":"IF(F10&F11&F15&F23<>\"\",SUM(F10,F11,F15,F23),\"\")","v":""},"","","","",""]
["A.","Pohledávky za upsaný základní kapitál",2,2,2,null,null,{"$f":"IF(F10&G10<>\"\",SUM(F10)-SUM(G10),\"\")","v":""}]
["B.","Stálá aktiva",3,3,3,{"$f":"IF(F12&F13&F14<>\"\",SUM(F12,F13,F14),\"\")","v":""},"","","","",""]
["B. I.","Dlouhodobý nehmotný majetek",4,4,4,null,null,{"$f":"IF(F12&G12<>\"\",SUM(F12)-SUM(G12),\"\")","v":""}]
["B. II.","Dlouhodobý hmotný majetek",14,14,14,null,null,{"$f":"IF(F13&G13<>\"\",SUM(F13)-SUM(G13),\"\")","v":""}]
["B. III.","Dlouhodobý finanční majetek",27,27,27,null,null,{"$f":"IF(F14&G14<>\"\",SUM(F14)-SUM(G14),\"\")","v":""}]
["C.","Oběžná aktiva",37,37,37,{"$f":"IF(F16&F17&F21&F22<>\"\",SUM(F16,F17,F21,F22),\"\")","v":""},"","","","",""]
["C. I.","Zásoby",38,38,38,null,null,{"$f":"IF(F16&G16<>\"\",SUM(F16)-SUM(G16),\"\")","v":""}]
["C. II.","Pohledávky",46,46,46,{"$f":"IF(F18&F19&F20<>\"\",SUM(F18:F20),\"\")","v":""},{"$f":"IF(G18&G19&G20<>\"\",SUM(G18:G20),\"\")","v":""},"","","",""]
["C. II. 1.","Dlouhodobé pohledávky",47,47,47,null,null,{"$f":"IF(F18&G18<>\"\",SUM(F18)-SUM(G18),\"\")","v":""}]
["C. II. 2.","Krátkodobé pohledávky",57,57,57,null,null,""]
["C. II. 3.","Časové rozlišení aktiv",68,78,68]
["C. III. ","Krátkodobý finanční majetek",72,68,72,null,null,""]
["C. IV.","Peněžní prostředky",75,71,75,null,null,""]
["D.","Časové rozlišení aktiv",78,74,78]
[null,null,"POZOR Pasiva celkem se nerovnají Aktiva celkem",null,null,null,null,"! ! !","! ! !","! ! !","! ! !"]
["Označ.",null,"TaxEdit","EPO","Pořadí",null,null,"Běžné období","Minulé období","Předminulé","Předpředminulé"]
[null,"PASIVA CELKEM",1,1,82,null,null,{"$f":"IF(H27&H34&H40<>\"\",SUM(H27,H34,H40),\"\")","v":""},{"$f":"IF(I27&I34&I40<>\"\",SUM(I27,I34,I40),\"\")","v":""},{"$f":"IF(J27&J34&J40<>\"\",SUM(J27,J34,J40),\"\")","v":""},{"$f":"IF(K27&K34&K40<>\"\",SUM(K27,K34,K40),\"\")","v":""}]
["A.","Vlastní kapitál",2,2,83,null,null,{"$f":"IF(H28&H29&H30&H31&H32&H33<>\"\",SUM(H28,H29,H30,H31,H32,H33),\"\")","v":""},{"$f":"IF(I28&I29&I30&I31&I32&I33<>\"\",SUM(I28,I29,I30,I31,I32,I33),\"\")","v":""},{"$f":"IF(J28&J29&J30&J31&J32&J33<>\"\",SUM(J28,J29,J30,J31,J32,J33),\"\")","v":""},{"$f":"IF(K28&K29&K30&K31&K32&K33<>\"\",SUM(K28,K29,K30,K31,K32,K33),\"\")","v":""}]
["A. I.","Základní kapitál",3,3,84]
["A. II.","Ážio a kapitálové fondy",7,7,96]
["A. III.","Fondy ze zisku",15,15,92]
["A. IV.","Výsledek hospodaření minulých let (+/-)",18,18,99]
["A. V","Výsledek hospodaření běžného účetního období (+/-)",21,22,102,"!!! Jinak Výsledovka",null,{"$f":"IF(H9&H28&H29&H30&H31&H33&H34&H40<>\"\",SUM(H9)-SUM(H28,H29,H30,H31,H33,H34,H40),\"\")","v":""},{"$f":"IF(I9&I28&I29&I30&I31&I33&I34&I40<>\"\",SUM(I9)-SUM(I28,I29,I30,I31,I33,I34,I40),\"\")","v":""},{"$f":"IF(J9&J28&J29&J30&J31&J33&J34&J40<>\"\",SUM(J9)-SUM(J28,J29,J30,J31,J33,J34,J40),\"\")","v":""},{"$f":"IF(K9&K28&K29&K30&K31&K33&K34&K40<>\"\",SUM(K9)-SUM(K28,K29,K30,K31,K33,K34,K40),\"\")","v":""}]
["A. VI.","Rozhodnuto o zálohové výplatě podílu na zisku (-)",22,23,103]
["B.+C.","Cizí zdroje",23,24,104,null,null,{"$f":"IF(H35&H36<>\"\",SUM(H35,H36),\"\")","v":""},{"$f":"IF(I35&I36<>\"\",SUM(I35,I36),\"\")","v":""},{"$f":"IF(J35&J36<>\"\",SUM(J35,J36),\"\")","v":""},{"$f":"IF(K35&K36<>\"\",SUM(K35,K36),\"\")","v":""}]
["B.","Rezervy",24,25,105]
["C.","Závazky",29,30,110,null,null,{"$f":"IF(H37&H38&H39<>\"\",SUM(H37:H39),\"\")","v":""},{"$f":"IF(I37&I38&I39<>\"\",SUM(I37:I39),\"\")","v":""},"",""]
["C. I.","Dlouhodobé závazky",30,31,111]
["C. II.","Krátkodobé závazky",45,46,126]
["C. III.","Časové rozlišení pasiv",63,67,144]
["D.","Časové rozlišení pasiv",66,64,147]

{"sheet":"Rozvaha mikro","index":2,"n_rows":21,"n_cols":11,"rows_kept":21,"cut":false,"hidden":false,"merged":[[6,5,6,7]]}
[null,{"$f":"\"Rozvaha \"&B3& \" ve zkráceném \nrozsahu pro mikro jednotky\"","v":"Rozvaha 2024 ve zkráceném \nrozsahu pro mikro jednotky"}]
["IČ:",0]
["Za rok:",{"$f":"Rozvaha!B3","v":2024}]
["Počet\n období:",2,null,null,null,null,"verze 20242912"]
["Desetiny:",0]
[]
["Označení dle vyhlášky 500/2002 Sb.",null,"číslo řádku",null,null,"Běžné účetní období",null,null,"Minulé období","Předminulé","Předpředminulé"]
[null,null,"TaxEdit","EPO","Pořadí","Brutto","Korekce","Netto","Netto","Netto","Netto"]
[null," AKTIVA CELKEM",1,1,1,{"$f":"IF(F10&F11&F12&F13<>\"\",SUM(F10,F11,F12,F13),\"\")","v":""},"","","","",""]
["A.","Pohledávky za upsaný základní kapitál",2,2,2,null,null,{"$f":"IF(F10&G10<>\"\",SUM(F10)-SUM(G10),\"\")","v":""}]
["B.","Stálá aktiva",3,3,3,null,null,{"$f":"IF(F11&G11<>\"\",SUM(F11)-SUM(G11),\"\")","v":""}]
["C.","Oběžná aktiva",37,37,37,null,null,{"$f":"IF(F12&G12<>\"\",SUM(F12)-SUM(G12),\"\")","v":""}]
["D.","Časové rozlišení aktiv",78,74,78,null,null,{"$f":"IF(F13&G13<>\"\",SUM(F13)-SUM(G13),\"\")","v":""}]
[null,null,"POZOR Pasiva celkem se nerovnají Aktiva celkem",null,null,null,null,"! ! !","! ! !","! ! !","! ! !"]
["Označ.",null,"TaxEdit","EPO","Pořadí",null,null,"Běžné období","Minulé období","Předminulé","Předpředminulé"]
[null,"PASIVA CELKEM",1,1,82,null,null,{"$f":"IF(H17&H18&H21<>\"\",SUM(H17,H18,H21),\"\")","v":""},{"$f":"IF(I17&I18&I21<>\"\",SUM(I17,I18,I21),\"\")","v":""},{"$f":"IF(J17&J18&J21<>\"\",SUM(J17,J18,J21),\"\")","v":""},{"$f":"IF(K17&K18&K21<>\"\",SUM(K17,K18,K21),\"\")","v":""}]
["A.","Vlastní kapitál",2,2,83,null,null,{"$f":"IF(F17&G17<>\"\",SUM(F17)-SUM(G17),\"\")","v":""}]
["B.+C.","Cizí zdroje",23,24,104,null,null,{"$f":"IF(H19&H20<>\"\",SUM(H19,H20),\"\")","v":""},{"$f":"IF(I19&I20<>\"\",SUM(I19,I20),\"\")","v":""},{"$f":"IF(J19&J20<>\"\",SUM(J19,J20),\"\")","v":""},{"$f":"IF(K19&K20<>\"\",SUM(K19,K20),\"\")","v":""}]
["B.","Rezervy",24,25,105,null,null,{"$f":"IF(F19&G19<>\"\",SUM(F19)-SUM(G19),\"\")","v":""}]
["C.","Závazky",29,30,110,null,null,{"$f":"IF(F20&G20<>\"\",SUM(F20)-SUM(G20),\"\")","v":""}]
["D.","Časové rozlišení pasiv",66,64,147,null,null,{"$f":"IF(F21&G21<>\"\",SUM(F21)-SUM(G21),\"\")","v":""}]

{"sheet":"Výsledovka","index":3,"n_rows":59,"n_cols":7,"rows_kept":59,"cut":false,"hidden":false,"merged":[[1,0,1,4]]}
[null,"Výkaz zisků a ztrát "]
[{"$f":"\"IČ: \"&Rozvaha!B2&\"       Za rok: \"&Rozvaha!B3","v":"IČ: 0       Za rok: 2024"}]
["Označení dle vyhlášky 500/2002 Sb.",null,"TaxEdit/EPO","Běžné období","Minulé období","Předminulé\nobdobí","Předpředminulé\nobdobí"]
["I.","Tržby z prodeje výrobků a služeb",1]
["II.","Tržby za prodej zboží",2]
["A.","Výkonová spotřeba",3,{"$f":"IF(D7&D8&D9<>\"\",SUM(D7:D9),\"\")","v":""},{"$f":"IF(E7&E8&E9<>\"\",SUM(E7:E9),\"\")","v":""},{"$f":"IF(F7&F8&F9<>\"\",SUM(F7:F9),\"\")","v":""},{"$f":"IF(G7&G8&G9<>\"\",SUM(G7:G9),\"\")","v":""}]
["A.1.","     Náklady vynaložené na prodané zboží",4]
["A.2.","     Spotřeba materiálu a energie",5]
["A.3.","     Služby",6]
["B.","Změna stavu zásob vlastní činnosti (+/-)",7]
["C.","Aktivace (-)",8]
["D.","Osobní náklady",9,{"$f":"IF(D13&D14<>\"\",SUM(D13,D14),\"\")","v":""},{"$f":"IF(E13&E14<>\"\",SUM(E13,E14),\"\")","v":""},{"$f":"IF(F13&F14<>\"\",SUM(F13,F14),\"\")","v":""},{"$f":"IF(G13&G14<>\"\",SUM(G13,G14),\"\")","v":""}]
["D.1.","     Mzdové náklady",10]
["D.2.","     Náklady na sociální zabezpečení, zdravotní pojištění a ostatní náklady",11,{"$f":"IF(D15&D16<>\"\",SUM(D15,D16),\"\")","v":""},{"$f":"IF(E15&E16<>\"\",SUM(E15,E16),\"\")","v":""},{"$f":"IF(F15&F16<>\"\",SUM(F15,F16),\"\")","v":""},{"$f":"IF(G15&G16<>\"\",SUM(G15,G16),\"\")","v":""}]
["D.2.1.","       Náklady na sociální zabezpečení a zdravotní pojištění",12]
["D.2.2.","       Ostatní náklady",13]
["E.","Úprava hodnot v provozní oblasti",14,{"$f":"IF(D18&D21&D22<>\"\",SUM(D18,D21,D22),\"\")","v":""},{"$f":"IF(E18&E21&E22<>\"\",SUM(E18,E21,E22),\"\")","v":""},{"$f":"IF(F18&F21&F22<>\"\",SUM(F18,F21,F22),\"\")","v":""},{"$f":"IF(G18&G21&G22<>\"\",SUM(G18,G21,G22),\"\")","v":""}]
["E.1.","     Úpravy hodnot dlouhodobého nehmotného a hmotného majetku",15,{"$f":"IF(D19&D20<>\"\",SUM(D19,D20),\"\")","v":""},{"$f":"IF(E19&E20<>\"\",SUM(E19,E20),\"\")","v":""},{"$f":"IF(F19&F20<>\"\",SUM(F19,F20),\"\")","v":""},{"$f":"IF(G19&G20<>\"\",SUM(G19,G20),\"\")","v":""}]
["E.1.1.","       Úpravy hodnot dlouhodobého nehmotného a hmotného majetku - trvalé",16]
["E.1.2.","       Úpravy hodnot dlouhodobého nehmotného a hmotného majetku - dočasné",17]
["E.2.","     Úpravy hodnot zásob",18]
["E.3.","     Úpravy hodnot pohledávek",19]
["III.","Ostatní provozní výnosy",20,{"$f":"IF(D24&D25&D26<>\"\",SUM(D24:D26),\"\")","v":""},{"$f":"IF(E24&E25&E26<>\"\",SUM(E24:E26),\"\")","v":""},{"$f":"IF(F24&F25&F26<>\"\",SUM(F24:F26),\"\")","v":""},{"$f":"IF(G24&G25&G26<>\"\",SUM(G24:G26),\"\")","v":""}]
["III.1.","     Tržby z prodaného dlouhodobého majetku",21]
["III.2.","     Tržby z prodaného materiálu",22]
["III.3.","     Jiné provozní výnosy",23]
["F.","Ostatní provozní náklady",24,{"$f":"IF(D28&D29&D30&D31&D32<>\"\",SUM(D28:D32),\"\")","v":""},{"$f":"IF(E28&E29&E30&E31&E32<>\"\",SUM(E28:E32),\"\")","v":""},{"$f":"IF(F28&F29&F30&F31&F32<>\"\",SUM(F28:F32),\"\")","v":""},{"$f":"IF(G28&G29&G30&G31&G32<>\"\",SUM(G28:G32),\"\")","v":""}]
["F.1.","     Zůstatková cena prodaného dlouhodobého majetku",25]
["F.2.","     Prodaný materiál",26]
["F.3.","     Daně a poplatky",27]
["F.4.","     Rezervy v provozní oblasti a komplexní náklady příštích období",28]
["F.5.","     Jiné provozní náklady",29]
[" *","* Provozní výsledek hospodaření (+/-)",30,{"$f":"IF(D4&D5&D23&D6&D10&D11&D12&D17&D27<>\"\",SUM(D4,D5,D23)-SUM(D6,D10,D11,D12,D17,D27),\"\")","v":""},{"$f":"IF(E4&E5&E23&E6&E10&E11&E12&E17&E27<>\"\",SUM(E4,E5,E23)-SUM(E6,E10,E11,E12,E17,E27),\"\")","v":""},{"$f":"IF(F4&F5&F23&F6&F10&F11&F12&F17&F27<>\"\",SUM(F4,F5,F23)-SUM(F6,F10,F11,F12,F17,F27),\"\")","v":""},{"$f":"IF(G4&G5&G23&G6&G10&G11&G12&G17&G27<>\"\",SUM(G4,G5,G23)-SUM(G6,G10,G11,G12,G17,G27),\"\")","v":""}]
["IV.","Výnosy z dlouhodobého finančního majetku - podíly",31,{"$f":"IF(D35&D36<>\"\",SUM(D35,D36),\"\")","v":""},{"$f":"IF(E35&E36<>\"\",SUM(E35,E36),\"\")","v":""},{"$f":"IF(F35&F36<>\"\",SUM(F35,F36),\"\")","v":""},{"$f":"IF(G35&G36<>\"\",SUM(G35,G36),\"\")","v":""}]
["IV.1.","     Výnosy z podílů - ovládaná nebo ovládající osoba",32]
["IV.2.","     Ostatní výnosy z podílů",33]
["G.","Náklady vynaložené na prodané podíly",34]
["V.","Výnosy z ostatního dlouhodobého finančního majetku",35,{"$f":"IF(D39&D40<>\"\",SUM(D39,D40),\"\")","v":""},{"$f":"IF(E39&E40<>\"\",SUM(E39,E40),\"\")","v":""},{"$f":"IF(F39&F40<>\"\",SUM(F39,F40),\"\")","v":""},{"$f":"IF(G39&G40<>\"\",SUM(G39,G40),\"\")","v":""}]
["V.1.","     Výnosy z ostatního dlouhodobého finančního majetku - ovládaná nebo ovládající osoba",36]
["V.2.","     Ostatní výnosy z ostatního dlouhodobého finančního majetku",37]
["H.","Náklady související s ostatním dlouhodobým finančním majetkem",38]
["VI.","Výnosové úroky a podobné výnosy",39,{"$f":"IF(D43&D44<>\"\",SUM(D43,D44),\"\")","v":""},{"$f":"IF(E43&E44<>\"\",SUM(E43,E44),\"\")","v":""},{"$f":"IF(F43&F44<>\"\",SUM(F43,F44),\"\")","v":""},{"$f":"IF(G43&G44<>\"\",SUM(G43,G44),\"\")","v":""}]
["VI.1.","     Výnosové úroky a podobné výnosy - ovládaná nebo ovládající osoba",40]
["VI.2.","     Ostatní výnosové úroky a podobné výnosy",41]
["I.","Úpravy hodnot a rezervy ve finanční oblasti",42]
["J.","Nákladové úroky a podobné náklady",43,{"$f":"IF(D47&D48<>\"\",SUM(D47,D48),\"\")","v":""},{"$f":"IF(E47&E48<>\"\",SUM(E47,E48),\"\")","v":""},{"$f":"IF(F47&F48<>\"\",SUM(F47,F48),\"\")","v":""},{"$f":"IF(G47&G48<>\"\",SUM(G47,G48),\"\")","v":""}]
["J.1.","     Nákladové úroky a podobné náklady - ovládaná nebo ovládající osoba",44]
["J.2.","     Ostatní nákladové úroky a podobné náklady",45]
["VII.","Ostatní finanční výnosy",46]
["K.","Ostatní finanční náklady",47]
[" *","Finanční výsledek hospodaření (+/-)",48,{"$f":"IF(D34&D38&D42&D49&D37&D41&D45&D46&D50<>\"\",SUM(D34,D38,D42,D49)-SUM(D37,D41,D45,D46,D50),\"\")","v":""},{"$f":"IF(E34&E38&E42&E49&E37&E41&E45&E46&E50<>\"\",SUM(E34,E38,E42,E49)-SUM(E37,E41,E45,E46,E50),\"\")","v":""},{"$f":"IF(F34&F38&F42&F49&F37&F41&F45&F46&F50<>\"\",SUM(F34,F38,F42,F49)-SUM(F37,F41,F45,F46,F50),\"\")","v":""},{"$f":"IF(G34&G38&G42&G49&G37&G41&G45&G46&G50<>\"\",SUM(G34,G38,G42,G49)-SUM(G37,G41,G45,G46,G50),\"\")","v":""}]
[" **","Výsledek hospodaření před zdaněním (+/-)",49,{"$f":"IF(D51&D33<>\"\",SUM(D33,D51),\"\")","v":""},{"$f":"IF(E51&E33<>\"\",SUM(E33,E51),\"\")","v":""},"",""]
["L.","Daň z příjmů",50,{"$f":"IF(D54&D55<>\"\",SUM(D54,D55),\"\")","v":""},{"$f":"IF(E54&E55<>\"\",SUM(E54,E55),\"\")","v":""},{"$f":"IF(F54&F55<>\"\",SUM(F54,F55),\"\")","v":""},{"$f":"IF(G54&G55<>\"\",SUM(G54,G55),\"\")","v":""}]
["L.1.","     Daň z příjmů splatná",51]
["L.2.","     Daň z příjmů odložená (+/-)",52]
[" **","Výsledek hospodaření po zdanění (+/-)",53,{"$f":"IF(D52&D53<>\"\",SUM(D52)-SUM(D53),\"\")","v":""},{"$f":"IF(E52&E53<>\"\",SUM(E52)-SUM(E53),\"\")","v":""},{"$f":"IF(F52&F53<>\"\",SUM(F52)-SUM(F53),\"\")","v":""},{"$f":"IF(G52&G53<>\"\",SUM(G52)-SUM(G53),\"\")","v":""}]
["M.","Převod podílu na  výsledku hospodaření společníkům (+/-)",54]
[" ***","Výsledek hospodaření za účetní období (+/-)",55,{"$f":"IF(D56&D57<>\"\",SUM(D56)-SUM(D57),\"\")","v":""},{"$f":"IF(E56&E57<>\"\",SUM(E56)-SUM(E57),\"\")","v":""},{"$f":"IF(F56&F57<>\"\",SUM(F56)-SUM(F57),\"\")","v":""},{"$f":"IF(G56&G57<>\"\",SUM(G56)-SUM(G57),\"\")","v":""}]
[" *",{"$f":"\"Čistý obrat za účetní období = I. + II.\"&IF(Rozvaha!B3>=2024,\" (+ III. + IV. + V. + VI. + VII. do roku 2023)\",\" + III. + IV. + V. + VI. + VII.\")","v":"Čistý obrat za účetní období = I. + II. (+ III. + IV. + V. + VI. + VII. do roku 2023)"},56,{"$f":"IF(Rozvaha!B3>=2024,IF(D4&D5<>\"\",SUM(D4,D5),\"\"),IF(D4&D5&D23&D34&D38&D42&D49<>\"\",SUM(D4,D5,D23,D34,D38,D42,D49),\"\"))","v":""},{"$f":"IF(Rozvaha!B3>=2025,IF(E4&E5<>\"\",SUM(E4,E5),\"\"),IF(E4&E5&E23&E34&E38&E42&E49<>\"\",SUM(E4,E5,E23,E34,E38,E42,E49),\"\"))","v":""},{"$f":"IF(Rozvaha!B3>=2026,IF(F4&F5<>\"\",SUM(F4,F5),\"\"),IF(F4&F5&F23&F34&F38&F42&F49<>\"\",SUM(F4,F5,F23,F34,F38,F42,F49),\"\"))","v":""},{"$f":"IF(Rozvaha!B3>=2027,IF(G4&G5<>\"\",SUM(G4,G5),\"\"),IF(G4&G5&G23&G34&G38&G42&G49<>\"\",SUM(G4,G5,G23,G34,G38,G42,G49),\"\"))","v":""}]

{"sheet":"Výsledovka zkrácená","index":4,"n_rows":29,"n_cols":7,"rows_kept":29,"cut":false,"hidden":false,"merged":[[0,0,0,4],[1,0,1,4]]}
["Výkaz zisků a ztrát ve zkráceném rozsahu"]
[{"$f":"\"IČ: \"&'Rozvaha zkrácená'!B2&\"       Za rok: \"&'Rozvaha zkrácená'!B3","v":"IČ: 0       Za rok: 2024"}]
["Označení dle vyhlášky 500/2002 Sb.",null,"TaxEdit/EPO","Běžné období","Minulé období","Předminulé\nobdobí","Předpředminulé\nobdobí"]
["I.","Tržby z prodeje výrobků a služeb",1]
["II.","Tržby za prodej zboží",2]
["A.","Výkonová spotřeba",3]
["B.","Změna stavu zásob vlastní činnosti (+/-)",7]
["C.","Aktivace (-)",8]
["D."," Osobní náklady",9]
["E.","Úprava hodnot v provozní oblasti",14]
["III.","Ostatní provozní výnosy",20]
["F.","Ostatní provozní náklady",24]
[" *","* Provozní výsledek hospodaření (+/-)",30,{"$f":"IF(D4&D5&D11&D6&D7&D8&D9&D10&D12<>\"\",SUM(D4,D5,D11)-SUM(D6,D7,D8,D9,D10,D12),\"\")","v":""},{"$f":"IF(E4&E5&E11&E6&E7&E8&E9&E10&E12<>\"\",SUM(E4,E5,E11)-SUM(E6,E7,E8,E9,E10,E12),\"\")","v":""},{"$f":"IF(F4&F5&F11&F6&F7&F8&F9&F10&F12<>\"\",SUM(F4,F5,F11)-SUM(F6,F7,F8,F9,F10,F12),\"\")","v":""},{"$f":"IF(G4&G5&G11&G6&G7&G8&G9&G10&G12<>\"\",SUM(G4,G5,G11)-SUM(G6,G7,G8,G9,G10,G12),\"\")","v":""}]
["IV.","Výnosy z dlouhodobého finančního majetku - podíly",31]
["G.","Náklady vynaložené na prodané podíly",34]
["V.","Výnosy z ostatního dlouhodobého finančního majetku",35]
["H.","Náklady související s ostatním dlouhodobým finančním majetkem",38]
["VI.","Výnosové úroky a podobné výnosy",39]
["I.","Úpravy hodnot a rezervy ve finanční oblasti",42]
["J.","Nákladové úroky a podobné náklady",43]
["VII.","Ostatní finanční výnosy",46]
["K.","Ostatní finanční náklady",47]
[" *","Finanční výsledek hospodaření (+/-)",48,{"$f":"IF(D14&D15&D16&D17&D18&D19&D20&D21&D22<>\"\",SUM(D14,D16,D18,D21)-SUM(D15,D17,D19,D20,D22),\"\")","v":""},{"$f":"IF(E14&E15&E16&E17&E18&E19&E20&E21&E22<>\"\",SUM(E14,E16,E18,E21)-SUM(E15,E17,E19,E20,E22),\"\")","v":""},{"$f":"IF(F14&F15&F16&F17&F18&F19&F20&F21&F22<>\"\",SUM(F14,F16,F18,F21)-SUM(F15,F17,F19,F20,F22),\"\")","v":""},{"$f":"IF(G14&G15&G16&G17&G18&G19&G20&G21&G22<>\"\",SUM(G14,G16,G18,G21)-SUM(G15,G17,G19,G20,G22),\"\")","v":""}]
[" **","Výsledek hospodaření před zdaněním (+/-)",49,{"$f":"IF(D13&D23<>\"\",SUM(D13,D23),\"\")","v":""},{"$f":"IF(E13&E23<>\"\",SUM(E13,E23),\"\")","v":""},"",""]
["L.","Daň z příjmů",50]
[" **","Výsledek hospodaření po zdanění (+/-)",53,{"$f":"IF(D24&D25<>\"\",SUM(D24)-SUM(D25),\"\")","v":""},{"$f":"IF(E24&E25<>\"\",SUM(E24)-SUM(E25),\"\")","v":""},{"$f":"IF(F24&F25<>\"\",SUM(F24)-SUM(F25),\"\")","v":""},{"$f":"IF(G24&G25<>\"\",SUM(G24)-SUM(G25),\"\")","v":""}]
["M.","Převod podílu na výsledku hospodaření společníkům (+/-)",54]
[" ***","Výsledek hospodaření za účetní období (+/-)",55,{"$f":"IF(D26&D27<>\"\",SUM(D26)-SUM(D27),\"\")","v":""},{"$f":"IF(E26&E27<>\"\",SUM(E26)-SUM(E27),\"\")","v":""},{"$f":"IF(F26&F27<>\"\",SUM(F26)-SUM(F27),\"\")","v":""},{"$f":"IF(G26&G27<>\"\",SUM(G26)-SUM(G27),\"\")","v":""}]
[" *",{"$f":"\"Čistý obrat za účetní období = I. + II.\"&IF(Rozvaha!B3>=2024,\" (+ III. + IV. + V. + VI. + VII. do roku 2023)\",\" + III. + IV. + V. + VI. + VII.\")","v":"Čistý obrat za účetní období = I. + II. (+ III. + IV. + V. + VI. + VII. do roku 2023)"},56,{"$f":"IF(Rozvaha!B3>=2024,IF(D4&D5<>\"\",SUM(D4,D5),\"\"),IF(D4&D5&D11&D14&D16&D18&D21<>\"\",SUM(D4,D5,D11,D14,D16,D18,D21),\"\"))","v":""},{"$f":"IF(Rozvaha!B3>=2025,IF(E4&E5<>\"\",SUM(E4,E5),\"\"),IF(E4&E5&E11&E14&E16&E18&E21<>\"\",SUM(E4,E5,E11,E14,E16,E18,E21),\"\"))","v":""},{"$f":"IF(Rozvaha!B3>=2026,IF(F4&F5<>\"\",SUM(F4,F5),\"\"),IF(F4&F5&F11&F14&F16&F18&F21<>\"\",SUM(F4,F5,F11,F14,F16,F18,F21),\"\"))","v":""},{"$f":"IF(Rozvaha!B3>=2027,IF(G4&G5<>\"\",SUM(G4,G5),\"\"),IF(G4&G5&G11&G14&G16&G18&G21<>\"\",SUM(G4,G5,G11,G14,G16,G18,G21),\"\"))","v":""}]

{"sheet":"CashFlow","index":5,"n_rows":42,"n_cols":7,"rows_kept":42,"cut":false,"hidden":false,"merged":[[0,0,0,4],[1,0,1,4]]}
["Výkaz o peněžních tocích"]
[{"$f":"\"IČ: \"&Rozvaha!B2&\"       Za rok: \"&Rozvaha!B3","v":"IČ: 0       Za rok: 2024"}]
[null,null,"řádek","Běžné období","Minulé období","Předminulé\nobdobí","Předpředminulé\nobdobí"]
["P.","Stav peněžních prostředků a peněžních ekvivalentů na začátku úč. období",1]
[null,"Peněžní toky z hlavní výdělečné činnosti (provozní činnost)"]
["Z.","Účetní zisk nebo ztráta před zdaněním",2]
["A.1.","Úpravy o nepeněžní operace",3,{"$f":"IF(D8&D9&D10&D11&D12&D13<>\"\",SUM(D8:D13),\"\")","v":""},{"$f":"IF(E8&E9&E10&E11&E12&E13<>\"\",SUM(E8:E13),\"\")","v":""},{"$f":"IF(F8&F9&F10&F11&F12&F13<>\"\",SUM(F8:F13),\"\")","v":""},{"$f":"IF(G8&G9&G10&G11&G12&G13<>\"\",SUM(G8:G13),\"\")","v":""}]
["A.1.1.  ","Odpisy stálých aktiv (+) s výjimkou zůstatkové ceny prodaných stálých aktiv Umořování opravné položky k nabytému majetku (+/-)",4]
["A.1.2.  ","Změna stavu opravných položek, změna stavu rezerv",5]
["A.1.3.  ","Zisk (ztráta) z prodeje stálých aktiv (-/+)",6]
["A.1.4.  ","Výnosy z dividend a podílů na zisku (-) (s výjimkou investičních spol. a fondů)",7]
["A.1.5.  ","Vyúčtované nákladové úroky (s výjimkou úroků zahrnovaných do ocenění dlouhodobého majetku) (+) Vyúčtované výnosové úroky (-)",8]
["A.1.6.  ","Případné úpravy a ostatní nepeněžní operace",9]
["A*","Čistý peněžní tok z provozní činnosti před zdaněním a změnami pracovního kapitálu (Z + A.1.)",10,{"$f":"IF(D6&D7<>\"\",SUM(D6,D7),\"\")","v":""},{"$f":"IF(E6&E7<>\"\",SUM(E6,E7),\"\")","v":""},{"$f":"IF(F6&F7<>\"\",SUM(F6,F7),\"\")","v":""},{"$f":"IF(G6&G7<>\"\",SUM(G6,G7),\"\")","v":""}]
["A.2.","Změna stavu nepeněžních složek pracovního kapitálu",11,{"$f":"IF(D16&D17&D18&D19<>\"\",SUM(D16:D19),\"\")","v":""},{"$f":"IF(E16&E17&E18&E19<>\"\",SUM(E16:E19),\"\")","v":""},{"$f":"IF(F16&F17&F18&F19<>\"\",SUM(F16:F19),\"\")","v":""},{"$f":"IF(G16&G17&G18&G19<>\"\",SUM(G16:G19),\"\")","v":""}]
["A.2.1.","Změna stavu pohledávek z  provozní činnosti (+/-), aktivních účtů časového rozlišení a dohadných účtů aktivních",12]
["A.2.2.","Změna stavu krátkodobých závazků z provozní činnosti (+/-), pasivních účtů časového rozlišení a dlouhodobých účtů pasivních",13]
["A.2.3.","Změna stavu zásob (+/-)",14]
["A.2.4.","Změna stavu krátkodobého finančního majetku nespadajícího do peněžních prostředků a ekvivalentů",15]
["A**","Čistý peněžní tok z provozní činnosti před zdaněním (A*+ A.2.)",16,{"$f":"IF(D14&D15<>\"\",SUM(D14,D15),\"\")","v":""},{"$f":"IF(E14&E15<>\"\",SUM(E14,E15),\"\")","v":""},{"$f":"IF(F14&F15<>\"\",SUM(F14,F15),\"\")","v":""},{"$f":"IF(G14&G15<>\"\",SUM(G14,G15),\"\")","v":""}]
["A.3.","Vyplacené úroky s výjimkou úroků zahrnovaných do ocenění dlouhodobého\nmajetku(-)",17]
["A.4.","Přijaté úroky (s výjimkou investičních spol. a fondů) (+)",18]
["A.5.","Zaplacená daň z příjmů a za doměrky daně za minulá období (-)",19]
["A.7.","Přijaté diviendy a podíly na zisku (+)",21]
["A***","Čistý peněžní tok z provozní činnosti (A**+ A.3.+ A.4.+ A.5.+ A.7.)",22,{"$f":"IF(D20&D21&D22&D23&D24<>\"\",SUM(D20,D21,D22,D23,D24),\"\")","v":""},{"$f":"IF(E20&E21&E22&E23&E24<>\"\",SUM(E20,E21,E22,E23,E24),\"\")","v":""},{"$f":"IF(F20&F21&F22&F23&F24<>\"\",SUM(F20,F21,F22,F23,F24),\"\")","v":""},{"$f":"IF(G20&G21&G22&G23&G24<>\"\",SUM(G20,G21,G22,G23,G24),\"\")","v":""}]
[null,"Peněžní toky z investiční činnosti"]
["B.1.","Výdaje spojené s nabytím stálých aktiv",23]
["B.2.","Příjmy z prodeje stálých aktiv",24]
["B.3.","Půjčky a úvěry spřízněným osobám",25]
["B***","Čistý peněžní tok vztahující se k investiční činnosti (B.1.+ B.2.+ B.3)",26,{"$f":"IF(D27&D28&D29<>\"\",SUM(D27:D29),\"\")","v":""},{"$f":"IF(E27&E28&E29<>\"\",SUM(E27:E29),\"\")","v":""},{"$f":"IF(F27&F28&F29<>\"\",SUM(F27:F29),\"\")","v":""},{"$f":"IF(G27&G28&G29<>\"\",SUM(G27:G29),\"\")","v":""}]
[null,"Peněžní toky z finančních činností"]
["C.1.","Dopady změn dlouhodobých závazků, popř. takových krátkodobých závazků, které spadají do oblasti finanční činnosti (např. některé provozní úvěry) na peněžní prostředky a ekvivalenty",27]
["C.2.","Dopady změn vlastního kapitálu na peněžní prostředky a na peněžní ekvivalenty",28,{"$f":"IF(D34&D35&D36&D37&D38&D39<>\"\",SUM(D34:D39),\"\")","v":""},{"$f":"IF(E34&E35&E36&E37&E38&E39<>\"\",SUM(E34:E39),\"\")","v":""},{"$f":"IF(F34&F35&F36&F37&F38&F39<>\"\",SUM(F34:F39),\"\")","v":""},{"$f":"IF(G34&G35&G36&G37&G38&G39<>\"\",SUM(G34:G39),\"\")","v":""}]
["C.2.1.","Zvýšení peněžních prostředků a peněžních ekvivalentů z titulu zvýšení základního kapitálu, emistního ážia, ev. rezervních fondů včetně složených záloh na toto zvýšení ",29]
["C.2.2.","Vyplacení podílu na vlastním kapitálu společníkům (-)",30]
["C.2.3.","Další vklady peněžních prostředků společníků a akcionářů",31]
["C.2.4.","Úhrada ztráty společníky (+)",32]
["C.2.5.","Přímé platby na vrub fondů (-)",33]
["C.2.6.","Vyplacené dividendy nebo podíly na zisku včetně zaplacené srážkové daně vztahující se k těmto nárokům a včetně finančního vypořádání se společníky v. o. s. a komplementáři u k. s. (-)",34]
["C***","Čistý peněžní tok vztahující se k finanční činnosti (C.1.+ C.2.)",35,{"$f":"IF(D32&D33<>\"\",SUM(D32,D33),\"\")","v":""},{"$f":"IF(E32&E33<>\"\",SUM(E32,E33),\"\")","v":""},{"$f":"IF(F32&F33<>\"\",SUM(F32,F33),\"\")","v":""},{"$f":"IF(G32&G33<>\"\",SUM(G32,G33),\"\")","v":""}]
["F.","Čisté zvýšení, resp. snížení peněžních prostředků  (A***+ B***+ C***)",36,{"$f":"IF(D25&D30&D40<>\"\",SUM(D25,D30,D40),\"\")","v":""},{"$f":"IF(E25&E30&E40<>\"\",SUM(E25,E30,E40),\"\")","v":""},{"$f":"IF(F25&F30&F40<>\"\",SUM(F25,F30,F40),\"\")","v":""},{"$f":"IF(G25&G30&G40<>\"\",SUM(G25,G30,G40),\"\")","v":""}]
["R.","Stav peněžních prostředků a peněžních ekvivalentů na konci období (P+F)",37,{"$f":"IF(D4&D41<>\"\",SUM(D4,D41),\"\")","v":""},{"$f":"IF(E4&E41<>\"\",SUM(E4,E41),\"\")","v":""},{"$f":"IF(F4&F41<>\"\",SUM(F4,F41),\"\")","v":""},{"$f":"IF(G4&G41<>\"\",SUM(G4,G41),\"\")","v":""}]

{"sheet":"PřehledZměnVK","index":6,"n_rows":75,"n_cols":7,"rows_kept":75,"cut":false,"hidden":false,"merged":[[0,0,0,4],[1,0,1,4]]}
["Přehled o změnách vlastního kapitálu"]
[{"$f":"\"IČ: \"&Rozvaha!B2&\"       Za rok: \"&Rozvaha!B3","v":"IČ: 0       Za rok: 2024"}]
[null,null,"řádek","Běžné období","Minulé období","Předminulé\nobdobí","Předpředminulé\nobdobí"]
[null,"A. Základní kapitál zapsaný v obchodním rejstříku (účty 411, 491)"]
["A.1.","Počáteční zůstatek",1]
["A.2.","Zvýšení",2]
["A.3.","Snížení",3]
["A.4.","Konečný zůstatek",4,{"$f":"IF(D5&D6&D7<>\"\",SUM(D5,D6,-D7),\"\")","v":""},{"$f":"IF(E5&E6&E7<>\"\",SUM(E5,E6,-E7),\"\")","v":""},"",""]
[null,"B. Základní kapitál nezapsaný (účet 419)"]
["B.1.","Počáteční zůstatek",5]
["B.2.","Zvýšení",6]
["B.3.","Snížení",7]
["B.4.","Konečný zůstatek",8,{"$f":"IF(D10&D11&D12<>\"\",SUM(D10,D11,-D12),\"\")","v":""},{"$f":"IF(E10&E11&E12<>\"\",SUM(E10,E11,-E12),\"\")","v":""},{"$f":"IF(F10&F11&F12<>\"\",SUM(F10,F11,-F12),\"\")","v":""},{"$f":"IF(G10&G11&G12<>\"\",SUM(G10,G11,-G12),\"\")","v":""}]
[null,"C. Základní kapitál A. +/- B. se zohledněním účtu (-)252"]
["C.1.","Počáteční zůstatek A. +/- B.",9,{"$f":"IF(D5&D10<>\"\",SUM(D5,D10),\"\")","v":""},{"$f":"IF(E5&E10<>\"\",SUM(E5,E10),\"\")","v":""},"",""]
["C.2.","Počáteční zůstatek vlastních akcií a vlastních obchodních podílů (-252)",10]
["C.3.","Zvýšení stavu účtu (-252)",11]
["C.4.","Snížení stavu účtu (-252)",12]
["C.5.","Konečný zůstatek účtu (-252)",13,{"$f":"IF(D16&D17&D18<>\"\",SUM(D16,D17,-D18),\"\")","v":""},{"$f":"IF(E16&E17&E18<>\"\",SUM(E16,E17,-E18),\"\")","v":""},{"$f":"IF(F16&F17&F18<>\"\",SUM(F16,F17,-F18),\"\")","v":""},{"$f":"IF(G16&G17&G18<>\"\",SUM(G16,G17,-G18),\"\")","v":""}]
["C.6.","Konečný zůstatek A. +/- B. se zohledněním účtu (-)252",14,{"$f":"IF(D8&D13&D19<>\"\",SUM(D8,D13,D19),\"\")","v":""},{"$f":"IF(E8&E13&E19<>\"\",SUM(E8,E13,E19),\"\")","v":""},"",""]
[null,"D. Ážio (účet 412)"]
["D.1.","Počáteční zůstatek",15]
["D.2.","Zvýšení",16]
["D.3.","Snížení",17]
["D.4.","Konečný zůstatek",18,{"$f":"IF(D22&D23&D24<>\"\",SUM(D22,D23,-D24),\"\")","v":""},{"$f":"IF(E22&E23&E24<>\"\",SUM(E22,E23,-E24),\"\")","v":""},{"$f":"IF(F22&F23&F24<>\"\",SUM(F22,F23,-F24),\"\")","v":""},{"$f":"IF(G22&G23&G24<>\"\",SUM(G22,G23,-G24),\"\")","v":""}]
[null,"E. Kapitálové fondy (účet 413)"]
["E.1.","Počáteční zůstatek",19]
["E.2.","Zvýšení",20]
["E.3.","Snížení",21]
["E.4.","Konečný zůstatek",22,{"$f":"IF(D27&D28&D29<>\"\",SUM(D27,D28,-D29),\"\")","v":""},{"$f":"IF(E27&E28&E29<>\"\",SUM(E27,E28,-E29),\"\")","v":""},{"$f":"IF(F27&F28&F29<>\"\",SUM(F27,F28,-F29),\"\")","v":""},{"$f":"IF(G27&G28&G29<>\"\",SUM(G27,G28,-G29),\"\")","v":""}]
[null,"F. Rozdíly z přecenění nezahrnuté do výsledku hospodaření (účty 414, 416, 417 a 418)"]
["F.1.","Počáteční zůstatek",23]
["F.3.","Zvýšení",24]
["F.3.","Snížení",25]
["F.4.","Konečný zůstatek",26,{"$f":"IF(D32&D33&D34<>\"\",SUM(D32,D33,-D34),\"\")","v":""},{"$f":"IF(E32&E33&E34<>\"\",SUM(E32,E33,-E34),\"\")","v":""},{"$f":"IF(F32&F33&F34<>\"\",SUM(F32,F33,-F34),\"\")","v":""},{"$f":"IF(G32&G33&G34<>\"\",SUM(G32,G33,-G34),\"\")","v":""}]
[null,"G. Rezervní fondy (účet 421, 422)"]
["G.1.","Počáteční zůstatek",27]
["G.2.","Zvýšení",28]
["G.3.","Snížení",29]
["G.4.","Konečný zůstatek",30,{"$f":"IF(D37&D38&D39<>\"\",SUM(D37,D38,-D39),\"\")","v":""},{"$f":"IF(E37&E38&E39<>\"\",SUM(E37,E38,-E39),\"\")","v":""},{"$f":"IF(F37&F38&F39<>\"\",SUM(F37,F38,-F39),\"\")","v":""},{"$f":"IF(G37&G38&G39<>\"\",SUM(G37,G38,-G39),\"\")","v":""}]
[null,"H. Ostatní fondy ze zisku (účet 423, 427)"]
["H.1.","Počáteční zůstatek",31]
["H.2.","Zvýšení",32]
["H.3.","Snížení",33]
["H.4.","Konečný zůstatek",34,{"$f":"IF(D42&D43&D44<>\"\",SUM(D42,D43,-D44),\"\")","v":""},{"$f":"IF(E42&E43&E44<>\"\",SUM(E42,E43,-E44),\"\")","v":""},{"$f":"IF(F42&F43&F44<>\"\",SUM(F42,F43,-F44),\"\")","v":""},{"$f":"IF(G42&G43&G44<>\"\",SUM(G42,G43,-G44),\"\")","v":""}]
[null,"I. Zisk účetních období (účet 428 + zůstatek na straně D účtu 431)"]
["I.1.","Počáteční zůstatek",35]
["I.2.","Zvýšení",36]
["I.3.","Snížení",37]
["I.4.","Konečný zůstatek",38,{"$f":"IF(D47&D48&D49<>\"\",SUM(D47,D48,-D49),\"\")","v":""},{"$f":"IF(E47&E48&E49<>\"\",SUM(E47,E48,-E49),\"\")","v":""},{"$f":"IF(F47&F48&F49<>\"\",SUM(F47,F48,-F49),\"\")","v":""},{"$f":"IF(G47&G48&G49<>\"\",SUM(G47,G48,-G49),\"\")","v":""}]
[null,"J. Ztráta účetních období (účet 429 + zůstatek na straně MD účtu 431)"]
["J.1.","Počáteční zůstatek",39]
["J.2.","Zvýšení",40]
["J.3.","Snížení",41]
["J.4.","Konečný zůstatek",42,{"$f":"IF(D52&D53&D54<>\"\",SUM(D52,D53,-D54),\"\")","v":""},{"$f":"IF(E52&E53&E54<>\"\",SUM(E52,E53,-E54),\"\")","v":""},{"$f":"IF(F52&F53&F54<>\"\",SUM(F52,F53,-F54),\"\")","v":""},{"$f":"IF(G52&G53&G54<>\"\",SUM(G52,G53,-G54),\"\")","v":""}]
[null,"K. Jiný výsledek minulých období (účet 426)"]
["K.1.","Počáteční zůstatek",43]
["K.2.","Zvýšení",44]
["K.3.","Snížení",45]
["K.4.","Konečný zůstatek",46,{"$f":"IF(D57&D58&D59<>\"\",SUM(D57,D58,-D59),\"\")","v":""},{"$f":"IF(E57&E58&E59<>\"\",SUM(E57,E58,-E59),\"\")","v":""},{"$f":"IF(F57&F58&F59<>\"\",SUM(F57,F58,-F59),\"\")","v":""},{"$f":"IF(G57&G58&G59<>\"\",SUM(G57,G58,-G59),\"\")","v":""}]
[null,"L. Zisk / ztráta za účetní období po zdanění"]
["L.1.","Počáteční zůstatek",47]
["L.2.","Zvýšení",48]
["L.3.","Snížení",49]
["L.4.","Konečný zůstatek",50,{"$f":"IF(D62&D63&D64<>\"\",SUM(D62,D63,-D64),\"\")","v":""},{"$f":"IF(E62&E63&E64<>\"\",SUM(E62,E63,-E64),\"\")","v":""},{"$f":"IF(F62&F63&F64<>\"\",SUM(F62,F63,-F64),\"\")","v":""},{"$f":"IF(G62&G63&G64<>\"\",SUM(G62,G63,-G64),\"\")","v":""}]
[null,"M. Zálohy na podíl na zisku (účet 432)"]
["M.1.","Počáteční zůstatek",51]
["M.2.","Zvýšení",52]
["M.3.","Snížení",53]
["M.4.","Konečný zůstatek",54,{"$f":"IF(D67&D68&D69<>\"\",SUM(D67,D68,-D69),\"\")","v":""},{"$f":"IF(E67&E68&E69<>\"\",SUM(E67,E68,-E69),\"\")","v":""},{"$f":"IF(F67&F68&F69<>\"\",SUM(F67,F68,-F69),\"\")","v":""},{"$f":"IF(G67&G68&G69<>\"\",SUM(G67,G68,-G69),\"\")","v":""}]
[null,"Vlastní kapitál celkem"]
["X.1.","Počáteční zůstatek",55,{"$f":"IF(D15&D16&D22&D27&D32&D37&D42&D47&D52&D57&D62&D67<>\"\",SUM(D15,D16,D22,D27,D32,D37,D42,D47,D52,D57,D62,D67),\"\")","v":""},{"$f":"IF(E15&E16&E22&E27&E32&E37&E42&E47&E52&E57&E62&E67<>\"\",SUM(E15,E16,E22,E27,E32,E37,E42,E47,E52,E57,E62,E67),\"\")","v":""},{"$f":"IF(F15&F16&F22&F27&F32&F37&F42&F47&F52&F57&F62&F67<>\"\",SUM(F15,F16,F22,F27,F32,F37,F42,F47,F52,F57,F62,F67),\"\")","v":""},{"$f":"IF(G15&G16&G22&G27&G32&G37&G42&G47&G52&G57&G62&G67<>\"\",SUM(G15,G16,G22,G27,G32,G37,G42,G47,G52,G57,G62,G67),\"\")","v":""}]
["X.2.","Zvýšení",56,{"$f":"IF(D6&D11&D17&D23&D28&D33&D38&D43&D48&D53&D58&D63&D68<>\"\",SUM(D6,D11,D17,D23,D28,D33,D38,D43,D48,D53,D58,D63,D68),\"\")","v":""},"","",""]
["X.3.","Snížení",57,"","","",""]
["X.4.","Konečný zůstatek",58,{"$f":"IF(D72&D73&D74<>\"\",SUM(D72,D73)-SUM(D74),\"\")","v":""},{"$f":"IF(E72&E73&E74<>\"\",SUM(E72,E73)-SUM(E74),\"\")","v":""},"",""]